BEGIN:VCALENDAR
VERSION:2.0
PRODID:-//hacksw/handcal//NONSGML v1.0//EN
BEGIN:VEVENT
SUMMARY:Tournoi National SU Agen
UID:ea5aeafd-32b6-4982-a505-687ab616f22b
DTSTART:20260418T070000Z
DTEND:20260419T211500Z
LOCATION:Localisation Centre omnisport Jacques Clouche Boe  Agen
CATEGORIES:Sportif
STATUS:
DESCRIPTION:<p><a
 href="https://admin.sportsregions.fr/media/uploaded/sites/1586/kcupload/files/Tournoi_national_B_SU_AGEN_2026.jpg"
 target="_blank" rel="noreferrer noopener">Cliquer ici pour visualiser
 les differents tableaux.</a><br>
  </p>
URL;VALUE=URI:https://coqspeujardais.sportsregions.fr/evenements/2026/04/18/tournoi-national-su-agen-610510
END:VEVENT
END:VCALENDAR
