BEGIN:VCALENDAR
VERSION:2.0
PRODID:-//hacksw/handcal//NONSGML v1.0//EN
BEGIN:VEVENT
SUMMARY:Tournoi  Le Haillan - St Medard en Jalles (Regional)
UID:f913c453-35df-4266-b3fa-ee60dbec4789
DTSTART:20260418T063000Z
DTEND:20260418T180000Z
LOCATION:Localisation Complexe sportif Olympie - rue Henri Rol Tanguy 33160 ST Medard en Jalles
CATEGORIES:Sportif
STATUS:
DESCRIPTION:<p><a
 href="https://admin.sportsregions.fr/media/uploaded/sites/1586/kcupload/files/LE%20HAILLAN%201000000357.jpg"
 target="_blank" rel="noreferrer noopener">Cliquer ici pour visualiser
 les differents tableaux.</a></p>
URL;VALUE=URI:https://coqspeujardais.sportsregions.fr/evenements/2026/04/18/tournoi-le-haillan-st-medard-en-jalles-regional-371772
END:VEVENT
END:VCALENDAR
