BEGIN:VCALENDAR
VERSION:2.0
PRODID:-//hacksw/handcal//NONSGML v1.0//EN
BEGIN:VEVENT
SUMMARY:Tournoi Fouras les Bains
UID:b1a958b4-a4f5-4b48-85e0-e81fb7e61738
DTSTART:20260418T070000Z
DTEND:20260418T200000Z
LOCATION:Localisation Complexe Roger Rondeaux 17450 Fouras les Bains
CATEGORIES:Sportif
STATUS:
DESCRIPTION:<p><a
 href="https://admin.sportsregions.fr/media/uploaded/sites/1586/kcupload/files/AFFICHE_FOURAS_2026.jpg"
 target="_blank" rel="noreferrer noopener">Cliquer ici pour visualiser
 les differents tableaux.</a></p>
URL;VALUE=URI:https://coqspeujardais.sportsregions.fr/evenements/2026/04/18/tournoi-fouras-les-bains-1790901
END:VEVENT
END:VCALENDAR
